Felt | Verdi |
AlreadyApplied | True |
Aperture | 8.0 |
ApertureValue | 8.0 |
ApproximateFocusDistance | 0.54 |
AutoLateralCA | 1 |
BitsPerSample | 8 |
Blacks2012 | -7 |
BlueHue | 0 |
BlueSaturation | 0 |
CameraProfile | Adobe Standard |
CircleOfConfusion | 0.022 mm |
Clarity2012 | -17 |
ColorComponents | 3 |
ColorGradeBlending | 50 |
ColorGradeGlobalHue | 0 |
ColorGradeGlobalLum | 0 |
ColorGradeGlobalSat | 0 |
ColorGradeHighlightLum | 0 |
ColorGradeMidtoneHue | 0 |
ColorGradeMidtoneLum | 0 |
ColorGradeMidtoneSat | 0 |
ColorGradeShadowLum | 0 |
ColorMode | RGB |
ColorNoiseReduction | 25 |
ColorNoiseReductionDetail | 50 |
ColorNoiseReductionSmoothness | 50 |
ColorSpace | Uncalibrated |
ColorTemperature | 5050 |
ColorTransform | YCbCr |
CompatibleVersion | 251854848 |
Contrast2012 | -7 |
CreateDate | 2024:08:30 15:05:56 |
CropAngle | 0.006829 |
CropBottom | 0.999963 |
CropConstrainToWarp | 0 |
CropLeft | 0.217133 |
CropRight | 0.796151 |
CropTop | 0.019967 |
CurveRefineSaturation | 100 |
CustomRendered | Normal |
DateCreated (1) | 2024:08:30 |
DateCreated | 2024:08:30 15:05:56.009 |
DateTimeOriginal | 2024:08:30 15:05:56 |
DefringeGreenAmount | 0 |
DefringeGreenHueHi | 60 |
DefringeGreenHueLo | 40 |
DefringePurpleAmount | 0 |
DefringePurpleHueHi | 70 |
DefringePurpleHueLo | 30 |
Dehaze | 0 |
DistortionCorrectionAlreadyApplied | True |
DOF | 0.008 m (0.536 - 0.544 m) |
ExifImageHeight | 4126 |
ExifImageWidth | 3663 |
Exposure2012 | +0.50 |
ExposureCompensation | 0 |
ExposureMode | Manual |
ExposureProgram | Manual |
ExposureTime | 1/400 |
Firmware | 1.0.4 |
Flash | Off, Did not fire |
FlashCompensation | 0 |
FNumber | 8.0 |
FocalLength | 105.0 mm |
FocalLength35efl | 105.0 mm (35 mm equivalent: 143.0 mm) |
Format | image/jpeg |
FOV | 14.3 deg |
GrainAmount | 0 |
GreenHue | 0 |
GreenSaturation | 0 |
HasCrop | True |
HasSettings | True |
HDREditMode | 0 |
Highlights2012 | -98 |
HueAdjustmentAqua | 0 |
HueAdjustmentBlue | 0 |
HueAdjustmentGreen | 0 |
HueAdjustmentMagenta | 0 |
HueAdjustmentOrange | 0 |
HueAdjustmentPurple | 0 |
HueAdjustmentRed | 0 |
HueAdjustmentYellow | 0 |
HyperfocalDistance | 62.46 m |
ICCProfileName | Display P3 |
ImageHeight | 4126 |
ImageNumber | 0 |
ImageSize | 3663x4126 |
ImageWidth | 3663 |
ISO | 500 |
LateralChromaticAberrationCorrectionAlreadyApplied | True |
Lens | 105mm |
LensBlurActive | false |
LensBlurBlurAmount | 70 |
LensBlurBokehAspect | 0 |
LensBlurBokehRotation | 0 |
LensBlurBokehShape | 0 |
LensBlurBokehShapeDetail | 0 |
LensBlurCatEyeAmount | 0 |
LensBlurCatEyeScale | 100 |
LensBlurFocalRange | -80 0 39 119 |
LensBlurFocalRangeSource | 1 |
LensBlurHighlightsBoost | 57 |
LensBlurHighlightsThreshold | 50 |
LensBlurSampledArea | 0.509965 0.506642 0.509965 0.506642 |
LensBlurSampledRange | 0 0 |
LensBlurSphericalAberration | 0 |
LensBlurSubjectRange | 0 39 |
LensBlurVersion | 1 |
LensID (1) | 183 |
LensID | Sigma 105mm f/2.8 EX DG OS HSM Macro |
LensInfo | 105mm f/? |
LensManualDistortionAmount | 0 |
LensModel | 105mm |
LensProfileDistortionScale | 100 |
LensProfileEnable | 1 |
LensProfileFilename | Canon (SIGMA MACRO 105mm F2.8 EX DG OS HSM) - RAW.lcp |
LensProfileIsEmbedded | False |
LensProfileName | Adobe (SIGMA MACRO 105mm F2.8 EX DG OS HSM, Canon) |
LensProfileSetup | LensDefaults |
LensProfileVignettingScale | 100 |
LensSerialNumber | 0000000000 |
LightValue | 12.3 |
LookAmount | 1 |
LookCopyright | © 2018 Adobe Systems, Inc. |
LookGroup | Profiles |
LookName | Adobe Color |
LookParametersCameraProfile | Adobe Standard |
LookParametersConvertToGrayscale | False |
LookParametersLookTable | E1095149FDB39D7A057BAB208837E2E1 |
LookParametersProcessVersion | 15.4 |
LookParametersToneCurvePV2012 | 0, 0, 22, 16, 40, 35, 127, 127, 224, 230, 240, 246, 255, 255 |
LookParametersToneCurvePV2012Blue | 0, 0, 255, 255 |
LookParametersToneCurvePV2012Green | 0, 0, 255, 255 |
LookParametersToneCurvePV2012Red | 0, 0, 255, 255 |
LookParametersVersion | 16.0 |
LookSupportsAmount | false |
LookSupportsMonochrome | false |
LookSupportsOutputReferred | false |
LuminanceAdjustmentAqua | 0 |
LuminanceAdjustmentBlue | 0 |
LuminanceAdjustmentGreen | 0 |
LuminanceAdjustmentMagenta | 0 |
LuminanceAdjustmentOrange | 0 |
LuminanceAdjustmentPurple | 0 |
LuminanceAdjustmentRed | 0 |
LuminanceAdjustmentYellow | 0 |
LuminanceSmoothing | 0 |
Make | Canon |
MaxApertureValue | 2.8 |
Megapixels | 15.1 |
MeteringMode | Multi-segment |
Model | Canon EOS 6D Mark II |
ModifyDate (1) | 2024:09:28 17:06:37+02:00 |
ModifyDate | 2024:09:28 17:06:37 |
Orientation | Horizontal (normal) |
OverrideLookVignette | False |
ParametricDarks | 0 |
ParametricHighlights | 0 |
ParametricHighlightSplit | 75 |
ParametricLights | 0 |
ParametricMidtoneSplit | 50 |
ParametricShadows | 0 |
ParametricShadowSplit | 25 |
PerspectiveAspect | 0 |
PerspectiveHorizontal | 0 |
PerspectiveRotate | 0.0 |
PerspectiveScale | 100 |
PerspectiveUpright | 0 |
PerspectiveVertical | 0 |
PerspectiveX | 0.00 |
PerspectiveY | 0.00 |
PostCropVignetteAmount | 0 |
ProcessVersion | 15.4 |
ProfileDescription | Display P3 |
Rating | 0 |
RecommendedExposureIndex | 500 |
RedHue | 0 |
RedSaturation | 0 |
Saturation | 0 |
SaturationAdjustmentAqua | -18 |
SaturationAdjustmentBlue | 0 |
SaturationAdjustmentGreen | -29 |
SaturationAdjustmentMagenta | 0 |
SaturationAdjustmentOrange | 0 |
SaturationAdjustmentPurple | 0 |
SaturationAdjustmentRed | 0 |
SaturationAdjustmentYellow | +13 |
ScaleFactor35efl | 1.4 |
SceneCaptureType | Standard |
SensitivityType | Recommended Exposure Index |
SerialNumber | 302052002458 |
Shadows2012 | 0 |
ShadowTint | 0 |
Sharpness | 0 |
ShutterSpeed | 1/400 |
ShutterSpeedValue | 1/400 |
Software | Adobe Photoshop 21.0 (Windows) |
SplitToningBalance | 0 |
SplitToningHighlightHue | 241 |
SplitToningHighlightSaturation | 13 |
SplitToningShadowHue | 55 |
SplitToningShadowSaturation | 13 |
Texture | +39 |
Tint | +9 |
ToneCurveName2012 | Custom |
ToneCurvePV2012 | 0, 44, 19, 46, 35, 61, 129, 158, 255, 255 |
ToneCurvePV2012Blue | 0, 0, 255, 255 |
ToneCurvePV2012Green | 0, 0, 255, 255 |
ToneCurvePV2012Red | 0, 0, 255, 255 |
URL_List | |
Version | 16.0 |
Vibrance | 0 |
VignetteAmount | 0 |
VignetteCorrectionAlreadyApplied | True |
WhiteBalance (1) | As Shot |
WhiteBalance | Manual |
Whites2012 | -40 |