Felt | Verdi |
AlreadyApplied | True |
Aperture | 7.1 |
ApertureValue | 7.1 |
ApproximateFocusDistance | 7.08 |
AutoLateralCA | 0 |
BitsPerSample | 8 |
Blacks2012 | 0 |
BlueHue | 0 |
BlueSaturation | 0 |
CameraProfile | Adobe Standard |
CFAPattern | [Red,Green][Green,Blue] |
CircleOfConfusion | 0.030 mm |
Clarity2012 | +36 |
ColorComponents | 3 |
ColorGradeBlending | 50 |
ColorGradeGlobalHue | 0 |
ColorGradeGlobalLum | 0 |
ColorGradeGlobalSat | 0 |
ColorGradeHighlightLum | 0 |
ColorGradeMidtoneHue | 0 |
ColorGradeMidtoneLum | 0 |
ColorGradeMidtoneSat | 0 |
ColorGradeShadowLum | 0 |
ColorMode | RGB |
ColorNoiseReduction | 25 |
ColorNoiseReductionDetail | 50 |
ColorNoiseReductionSmoothness | 50 |
ColorSpace | Uncalibrated |
ColorTemperature | 5350 |
ColorTransform | YCbCr |
Contrast | Normal |
Contrast2012 | +17 |
CreateDate | 2018:06:09 09:03:03 |
CreatorTool | NIKON D750 Ver.1.12 |
CustomRendered | Normal |
DateCreated (1) | 2018:06:09 |
DateCreated | 2018:06:09 09:03:03.078 |
DateTimeOriginal | 2018:06:09 09:03:03 |
DefringeGreenAmount | 0 |
DefringeGreenHueHi | 60 |
DefringeGreenHueLo | 40 |
DefringePurpleAmount | 0 |
DefringePurpleHueHi | 70 |
DefringePurpleHueLo | 30 |
Dehaze | 0 |
DigitalZoomRatio | 1 |
DOF | 0.23 m (6.97 - 7.20 m) |
ExifImageHeight | 1148 |
ExifImageWidth | 1148 |
Exposure2012 | 0.00 |
ExposureCompensation | -2/3 |
ExposureMode | Auto |
ExposureProgram | Aperture-priority AE |
ExposureTime | 1/500 |
Flash | Off, Did not fire |
FNumber | 7.1 |
FocalLength | 300.0 mm |
FocalLength35efl | 300.0 mm (35 mm equivalent: 300.0 mm) |
FocalLengthIn35mmFormat | 300 mm |
Format | image/jpeg |
FOV | 6.9 deg |
GainControl | Low gain up |
GrainAmount | 0 |
GreenHue | 0 |
GreenSaturation | 0 |
HasCrop | False |
HasSettings | True |
HDREditMode | 0 |
Highlights2012 | -12 |
HueAdjustmentAqua | 0 |
HueAdjustmentBlue | 0 |
HueAdjustmentGreen | 0 |
HueAdjustmentMagenta | 0 |
HueAdjustmentOrange | 0 |
HueAdjustmentPurple | 0 |
HueAdjustmentRed | 0 |
HueAdjustmentYellow | 0 |
HyperfocalDistance | 421.88 m |
ICCProfileName | Adobe RGB (1998) |
ImageHeight | 1148 |
ImageNumber | 25916 |
ImageSize | 1148x1148 |
ImageWidth | 1148 |
ISO | 400 |
Lens | 300.0 mm f/4.0 |
LensID (1) | 106 |
LensID | AF-S Nikkor 300mm f/4D IF-ED |
LensInfo | 300mm f/4 |
LensManualDistortionAmount | 0 |
LensModel | 300.0 mm f/4.0 |
LensProfileEnable | 0 |
LightSource | Unknown |
LightValue | 12.6 |
LookAmount | 1 |
LookCopyright | © 2018 Adobe Systems, Inc. |
LookGroup | Profiles |
LookName | Adobe Color |
LookParametersCameraProfile | Adobe Standard |
LookParametersConvertToGrayscale | False |
LookParametersLookTable | E1095149FDB39D7A057BAB208837E2E1 |
LookParametersProcessVersion | 15.4 |
LookParametersToneCurvePV2012 | 0, 0, 22, 16, 40, 35, 127, 127, 224, 230, 240, 246, 255, 255 |
LookParametersToneCurvePV2012Blue | 0, 0, 255, 255 |
LookParametersToneCurvePV2012Green | 0, 0, 255, 255 |
LookParametersToneCurvePV2012Red | 0, 0, 255, 255 |
LookParametersVersion | 16.3 |
LookSupportsAmount | false |
LookSupportsMonochrome | false |
LookSupportsOutputReferred | false |
LuminanceAdjustmentAqua | 0 |
LuminanceAdjustmentBlue | 0 |
LuminanceAdjustmentGreen | 0 |
LuminanceAdjustmentMagenta | 0 |
LuminanceAdjustmentOrange | 0 |
LuminanceAdjustmentPurple | 0 |
LuminanceAdjustmentRed | 0 |
LuminanceAdjustmentYellow | 0 |
LuminanceNoiseReductionContrast | 0 |
LuminanceNoiseReductionDetail | 50 |
LuminanceSmoothing | 23 |
Make | NIKON CORPORATION |
MaxApertureValue | 4.0 |
Megapixels | 1.3 |
MeteringMode | Multi-segment |
Model | NIKON D750 |
ModifyDate (1) | 2024:05:28 18:46:02+02:00 |
ModifyDate | 2024:05:28 18:46:02 |
Orientation | Horizontal (normal) |
OverrideLookVignette | False |
ParametricDarks | 0 |
ParametricHighlights | 0 |
ParametricHighlightSplit | 75 |
ParametricLights | 0 |
ParametricMidtoneSplit | 50 |
ParametricShadows | 0 |
ParametricShadowSplit | 25 |
PerspectiveAspect | 0 |
PerspectiveHorizontal | 0 |
PerspectiveRotate | 0.0 |
PerspectiveScale | 100 |
PerspectiveUpright | 0 |
PerspectiveVertical | 0 |
PerspectiveX | 0.00 |
PerspectiveY | 0.00 |
PointColors | -1.000000, -1.000000, -1.000000, -1.000000, -1.000000, -1.000000, -1.000000, -1.000000, -1.000000, -1.000000, -1.000000, -1.000000, -1.000000, -1.000000, -1.000000, -1.000000, -1.000000, -1.000000, -1.000000 |
PostCropVignetteAmount | 0 |
ProcessVersion | 15.4 |
ProfileDescription | Adobe RGB (1998) |
RedHue | 0 |
RedSaturation | 0 |
Saturation (1) | 0 |
Saturation | Normal |
SaturationAdjustmentAqua | 0 |
SaturationAdjustmentBlue | 0 |
SaturationAdjustmentGreen | 0 |
SaturationAdjustmentMagenta | 0 |
SaturationAdjustmentOrange | 0 |
SaturationAdjustmentPurple | 0 |
SaturationAdjustmentRed | 0 |
SaturationAdjustmentYellow | 0 |
ScaleFactor35efl | 1.0 |
SceneCaptureType | Standard |
SceneType | Directly photographed |
SensingMethod | One-chip color area |
SensitivityType | Recommended Exposure Index |
SerialNumber | 6074924 |
Shadows2012 | 0 |
ShadowTint | 0 |
SharpenDetail | 25 |
SharpenEdgeMasking | 0 |
SharpenRadius | +1.0 |
Sharpness (1) | 66 |
Sharpness | Normal |
ShutterSpeed | 1/500 |
ShutterSpeedValue | 1/500 |
Software | Adobe Photoshop 25.9 (Windows) |
SplitToningBalance | 0 |
SplitToningHighlightHue | 0 |
SplitToningHighlightSaturation | 0 |
SplitToningShadowHue | 0 |
SplitToningShadowSaturation | 0 |
SubjectDistanceRange | Unknown |
Texture | 0 |
Tint | +6 |
ToneCurveName2012 | Linear |
ToneCurvePV2012 | 0, 0, 255, 255 |
ToneCurvePV2012Blue | 0, 0, 255, 255 |
ToneCurvePV2012Green | 0, 0, 255, 255 |
ToneCurvePV2012Red | 0, 0, 255, 255 |
URL_List | |
Version | 16.3 |
Vibrance | 0 |
VignetteAmount | 0 |
WhiteBalance (1) | As Shot |
WhiteBalance | Manual |
Whites2012 | +28 |