Felt | Verdi |
AlreadyApplied | True |
Aperture | 11.0 |
ApertureValue | 11.0 |
Artist | ARILD THINGVOLL |
AutoLateralCA | 0 |
BitsPerSample | 8 |
Blacks2012 | +25 |
BlueHue | 0 |
BlueSaturation | 0 |
BrightnessValue | 9.12 |
By-line | ARILD THINGVOLL |
CameraProfile | Adobe Standard |
CircGradBasedCorrActive | true |
CircGradBasedCorrAmount | 1.000000 |
CircGradBasedCorrBrightness | 0.000000 |
CircGradBasedCorrClarity2012 | 0.000000 |
CircGradBasedCorrContrast2012 | 0.000000 |
CircGradBasedCorrCorrectionRangeMaskColorAmount | 0.500000 |
CircGradBasedCorrCorrectionRangeMaskDepthFeather | 0.500000 |
CircGradBasedCorrCorrectionRangeMaskDepthMax | 1.000000 |
CircGradBasedCorrCorrectionRangeMaskDepthMin | 0.000000 |
CircGradBasedCorrCorrectionRangeMaskLumFeather | 0.500000 |
CircGradBasedCorrCorrectionRangeMaskLumMax | 1.000000 |
CircGradBasedCorrCorrectionRangeMaskLumMin | 0.000000 |
CircGradBasedCorrCorrectionRangeMaskType | 0 |
CircGradBasedCorrCorrectionRangeMaskVersion | +2 |
CircGradBasedCorrDefringe | 0.000000 |
CircGradBasedCorrExposure2012 (1) | 0.666921 |
CircGradBasedCorrExposure2012 (10) | 0.158000 |
CircGradBasedCorrExposure2012 (3) | 0.140250 |
CircGradBasedCorrExposure2012 (4) | 0.537443 |
CircGradBasedCorrExposure2012 (5) | 0.210500 |
CircGradBasedCorrExposure2012 (8) | 0.228000 |
CircGradBasedCorrExposure2012 (9) | 0.280750 |
CircGradBasedCorrExposure2012 | 0.193000 |
CircGradBasedCorrHighlights2012 | 0.000000 |
CircGradBasedCorrHue (4) | 0.000000 |
CircGradBasedCorrHue | 139.000000 |
CircGradBasedCorrLocalBlacks2012 | 0.000000 |
CircGradBasedCorrLocalDehaze | 0.000000 |
CircGradBasedCorrLocalHue | 0.000000 |
CircGradBasedCorrLocalTexture | 0.000000 |
CircGradBasedCorrLocalWhites2012 | 0.000000 |
CircGradBasedCorrLuminanceNoise | 0.000000 |
CircGradBasedCorrMaskAngle (10) | 13.367800 |
CircGradBasedCorrMaskAngle (3) | -32.254000 |
CircGradBasedCorrMaskAngle (5) | -39.983500 |
CircGradBasedCorrMaskAngle (9) | 14.853100 |
CircGradBasedCorrMaskAngle | 0.000000 |
CircGradBasedCorrMaskBottom (1) | 0.600623 |
CircGradBasedCorrMaskBottom (10) | 0.398835 |
CircGradBasedCorrMaskBottom (2) | 0.437880 |
CircGradBasedCorrMaskBottom (3) | 0.615224 |
CircGradBasedCorrMaskBottom (4) | 0.528221 |
CircGradBasedCorrMaskBottom (5) | 0.495274 |
CircGradBasedCorrMaskBottom (6) | 0.831595 |
CircGradBasedCorrMaskBottom (7) | 0.398875 |
CircGradBasedCorrMaskBottom (8) | 0.586191 |
CircGradBasedCorrMaskBottom (9) | 0.774970 |
CircGradBasedCorrMaskBottom | 0.329523 |
CircGradBasedCorrMaskFeather | +100 |
CircGradBasedCorrMaskFlipped | true |
CircGradBasedCorrMaskLeft (1) | 0.128268 |
CircGradBasedCorrMaskLeft (10) | 0.539824 |
CircGradBasedCorrMaskLeft (2) | 0.201235 |
CircGradBasedCorrMaskLeft (3) | 0.252754 |
CircGradBasedCorrMaskLeft (4) | 0.589411 |
CircGradBasedCorrMaskLeft (5) | 0.653198 |
CircGradBasedCorrMaskLeft (6) | 0.514818 |
CircGradBasedCorrMaskLeft (7) | 0.409599 |
CircGradBasedCorrMaskLeft (8) | 0.483451 |
CircGradBasedCorrMaskLeft (9) | 0.604076 |
CircGradBasedCorrMaskLeft | 0.294187 |
CircGradBasedCorrMaskMidpoint | +50 |
CircGradBasedCorrMaskRight (1) | 0.386234 |
CircGradBasedCorrMaskRight (10) | 0.675155 |
CircGradBasedCorrMaskRight (2) | 0.332169 |
CircGradBasedCorrMaskRight (3) | 0.561092 |
CircGradBasedCorrMaskRight (4) | 0.659381 |
CircGradBasedCorrMaskRight (5) | 0.786262 |
CircGradBasedCorrMaskRight (6) | 0.652521 |
CircGradBasedCorrMaskRight (7) | 0.452180 |
CircGradBasedCorrMaskRight (8) | 0.554242 |
CircGradBasedCorrMaskRight (9) | 0.805538 |
CircGradBasedCorrMaskRight | 0.417601 |
CircGradBasedCorrMaskRoundness | 0 |
CircGradBasedCorrMaskTop (1) | 0.462210 |
CircGradBasedCorrMaskTop (10) | 0.203856 |
CircGradBasedCorrMaskTop (2) | 0.201018 |
CircGradBasedCorrMaskTop (3) | 0.748400 |
CircGradBasedCorrMaskTop (4) | 0.534447 |
CircGradBasedCorrMaskTop (5) | 0.504748 |
CircGradBasedCorrMaskTop (6) | 0.633200 |
CircGradBasedCorrMaskTop (7) | 0.316710 |
CircGradBasedCorrMaskTop (8) | 0.393500 |
CircGradBasedCorrMaskTop (9) | 0.534956 |
CircGradBasedCorrMaskTop | 0.215802 |
CircGradBasedCorrMaskValue | 1.000000 |
CircGradBasedCorrMaskVersion | +2 |
CircGradBasedCorrMaskWhat | Mask/CircularGradient |
CircGradBasedCorrMoire | 0.000000 |
CircGradBasedCorrSaturation | 0.000000 |
CircGradBasedCorrShadows2012 | 0.000000 |
CircGradBasedCorrSharpness | 0.000000 |
CircGradBasedCorrTemperature (8) | 0.428925 |
CircGradBasedCorrTemperature | 0.000000 |
CircGradBasedCorrTint | 0.000000 |
CircGradBasedCorrWhat | Correction |
CircleOfConfusion | 0.020 mm |
Clarity2012 | 0 |
ColorComponents | 3 |
ColorNoiseReduction | 25 |
ColorNoiseReductionDetail | 50 |
ColorNoiseReductionSmoothness | 50 |
ColorSpace | sRGB |
ColorTemperature | 3930 |
ColorTransform | YCbCr |
Contrast2012 | 0 |
ConvertToGrayscale | False |
CreateDate | 2020:07:02 12:19:35 |
Creator | ARILD THINGVOLL |
CreatorTool | Adobe Photoshop Lightroom Classic 9.3 (Windows) |
CropAngle | 0 |
CropBottom | 0.813384 |
CropConstrainToWarp | 0 |
CropLeft | 0.206031 |
CropRight | 0.817839 |
CropTop | 0.114986 |
CustomRendered | Normal |
DateCreated (1) | 2020:07:02 |
DateCreated | 2020:07:02 12:19:35 |
DateTimeOriginal | 2020:07:02 12:19:35 |
DefringeGreenAmount | 0 |
DefringeGreenHueHi | 60 |
DefringeGreenHueLo | 40 |
DefringePurpleAmount | 0 |
DefringePurpleHueHi | 70 |
DefringePurpleHueLo | 30 |
Dehaze | 0 |
DistortionCorrectionAlreadyApplied | True |
Exposure2012 | -1.90 |
ExposureCompensation | -1.33 |
ExposureMode | Auto |
ExposureProgram | Aperture-priority AE |
ExposureTime | 1/340 |
Flash | No Flash |
FNumber | 11.0 |
FocalLength | 24.7 mm |
FocalLength35efl | 24.7 mm (35 mm equivalent: 37.0 mm) |
FocalLengthIn35mmFormat | 37 mm |
Format | image/jpeg |
FOV | 51.9 deg |
FujiRatingAlreadyApplied | True |
GradientBasedCorrActive | true |
GradientBasedCorrAmount | 1.000000 |
GradientBasedCorrBrightness | 0.000000 |
GradientBasedCorrClarity2012 | 0.000000 |
GradientBasedCorrContrast2012 | 0.000000 |
GradientBasedCorrCorrectionRangeMaskColorAmount | 0.500000 |
GradientBasedCorrCorrectionRangeMaskDepthFeather | 0.500000 |
GradientBasedCorrCorrectionRangeMaskDepthMax | 1.000000 |
GradientBasedCorrCorrectionRangeMaskDepthMin | 0.000000 |
GradientBasedCorrCorrectionRangeMaskLumFeather | 0.500000 |
GradientBasedCorrCorrectionRangeMaskLumMax | 1.000000 |
GradientBasedCorrCorrectionRangeMaskLumMin | 0.000000 |
GradientBasedCorrCorrectionRangeMaskType | 0 |
GradientBasedCorrCorrectionRangeMaskVersion | +2 |
GradientBasedCorrDefringe | 0.000000 |
GradientBasedCorrExposure2012 | -0.288491 |
GradientBasedCorrHighlights2012 | 0.000000 |
GradientBasedCorrHue | 0.000000 |
GradientBasedCorrLocalBlacks2012 | 0.000000 |
GradientBasedCorrLocalDehaze | 0.000000 |
GradientBasedCorrLocalWhites2012 | 0.000000 |
GradientBasedCorrLuminanceNoise | 0.000000 |
GradientBasedCorrMaskFullX (1) | 0.390488 |
GradientBasedCorrMaskFullX | 0.485997 |
GradientBasedCorrMaskFullY (1) | 0.187358 |
GradientBasedCorrMaskFullY | 0.895239 |
GradientBasedCorrMaskValue | 1.000000 |
GradientBasedCorrMaskWhat | Mask/Gradient |
GradientBasedCorrMaskZeroX (1) | 0.429891 |
GradientBasedCorrMaskZeroX | 0.473264 |
GradientBasedCorrMaskZeroY (1) | 0.593910 |
GradientBasedCorrMaskZeroY | 0.614924 |
GradientBasedCorrMoire | 0.000000 |
GradientBasedCorrSaturation | 0.000000 |
GradientBasedCorrShadows2012 | 0.000000 |
GradientBasedCorrSharpness | 0.000000 |
GradientBasedCorrTemperature | 0.000000 |
GradientBasedCorrTint | 0.000000 |
GradientBasedCorrWhat | Correction |
GrainAmount | 0 |
GreenHue | 0 |
GreenSaturation | 0 |
HasCrop | True |
HasSettings | True |
HierarchicalSubject | 0720, Gatefoto, Trondheim, natt |
Highlights2012 | -100 |
HueAdjustmentAqua | 0 |
HueAdjustmentBlue | 0 |
HueAdjustmentGreen | 0 |
HueAdjustmentMagenta | 0 |
HueAdjustmentOrange | 0 |
HueAdjustmentPurple | 0 |
HueAdjustmentRed | 0 |
HueAdjustmentYellow | 0 |
HyperfocalDistance | 2.77 m |
ImageHeight | 1500 |
ImageSize | 1971x1500 |
ImageWidth | 1971 |
ISO | 200 |
Keywords | 0720, Gatefoto, Trondheim, natt |
LateralChromaticAberrationCorrectionAlreadyApplied | True |
Lens | XF16-80mmF4 R OIS WR |
LensInfo | 16-80mm f/4 |
LensMake | FUJIFILM |
LensManualDistortionAmount | 0 |
LensModel | XF16-80mmF4 R OIS WR |
LensProfileEnable | 0 |
LensProfileSetup | LensDefaults |
LensSerialNumber | 9CA02130 |
LightSource | Unknown |
LightValue | 14.3 |
LookName | |
LuminanceAdjustmentAqua | 0 |
LuminanceAdjustmentBlue | 0 |
LuminanceAdjustmentGreen | 0 |
LuminanceAdjustmentMagenta | 0 |
LuminanceAdjustmentOrange | 0 |
LuminanceAdjustmentPurple | 0 |
LuminanceAdjustmentRed | 0 |
LuminanceAdjustmentYellow | 0 |
LuminanceSmoothing | 0 |
Make | FUJIFILM |
MaxApertureValue | 4.0 |
Megapixels | 3.0 |
MeteringMode | Multi-segment |
Model | X-H1 |
ModifyDate (1) | 2020:07:18 00:48:42+02:00 |
ModifyDate | 2020:07:18 00:48:42 |
OverrideLookVignette | False |
ParametricDarks | +2 |
ParametricHighlights | 0 |
ParametricHighlightSplit | 75 |
ParametricLights | +45 |
ParametricMidtoneSplit | 50 |
ParametricShadows | +18 |
ParametricShadowSplit | 25 |
PerspectiveAspect | 0 |
PerspectiveHorizontal | 0 |
PerspectiveRotate | 0.0 |
PerspectiveScale | 100 |
PerspectiveUpright | 1 |
PerspectiveVertical | 0 |
PerspectiveX | 0.00 |
PerspectiveY | 0.00 |
PostCropVignetteAmount | 0 |
PreservedFileName | XH103132.RAF |
ProcessVersion | 11.0 |
ProfileDescription | sRGB IEC61966-2.1 |
Rating | 3 |
RawFileName | A. Thingvoll_2020_00306-37.RAF |
RedHue | 0 |
RedSaturation | 0 |
Saturation | -8 |
SaturationAdjustmentAqua | 0 |
SaturationAdjustmentBlue | 0 |
SaturationAdjustmentGreen | 0 |
SaturationAdjustmentMagenta | 0 |
SaturationAdjustmentOrange | 0 |
SaturationAdjustmentPurple | 0 |
SaturationAdjustmentRed | 0 |
SaturationAdjustmentYellow | 0 |
ScaleFactor35efl | 1.5 |
SceneCaptureType | Standard |
SceneType | Directly photographed |
SensingMethod | One-chip color area |
SensitivityType | Standard Output Sensitivity |
SerialNumber | 81A55422 |
Shadows2012 | +100 |
ShadowTint | 0 |
SharpenDetail | 25 |
SharpenEdgeMasking | 0 |
SharpenRadius | +1.0 |
Sharpness (1) | 25 |
Sharpness | Normal |
ShutterSpeed | 1/340 |
ShutterSpeedValue | 1/340 |
Software | Adobe Photoshop Lightroom Classic 9.3 (Windows) |
SplitToningBalance | -31 |
SplitToningHighlightHue | 44 |
SplitToningHighlightSaturation | 86 |
SplitToningShadowHue | 0 |
SplitToningShadowSaturation | 0 |
Subject | 0720, Gatefoto, Trondheim, natt |
SubjectDistanceRange | Unknown |
Texture | +25 |
Tint | +10 |
ToneCurve | 0, 0, 255, 255 |
ToneCurveBlue | 0, 0, 255, 255 |
ToneCurveGreen | 0, 0, 255, 255 |
ToneCurveName | Linear |
ToneCurveName2012 | Linear |
ToneCurvePV2012 | 0, 0, 255, 255 |
ToneCurvePV2012Blue | 0, 0, 255, 255 |
ToneCurvePV2012Green | 0, 0, 255, 255 |
ToneCurvePV2012Red | 0, 0, 255, 255 |
ToneCurveRed | 0, 0, 255, 255 |
ToneMapStrength | 0 |
Version | 12.3 |
Vibrance | 0 |
VignetteAmount | 0 |
VignetteCorrectionAlreadyApplied | True |
WhiteBalance (1) | Custom |
WhiteBalance | Auto |
Whites2012 | +55 |